BEGIN:VCALENDAR
VERSION:2.0
PRODID:-//Tukios.com/
BEGIN:VEVENT
UID:2bae7d7b-64d3-4eb0-9e3d-ab743125a9ad@www.karnesandsonfuneralhome.com
DTSTAMP:20260420T221347Z
DTSTART:20260423T210000Z
DTEND:20260423T220000Z
SUMMARY:Graveside Service
DESCRIPTION:
URL:https://www.karnesandsonfuneralhome.com/obituaries/geraldine-raborn
LOCATION: 11 Walnut Grove Road  Kenton TN 38233
GEO:36.1736849;-88.9601719
END:VEVENT
END:VCALENDAR